BEGIN:VCALENDAR
VERSION:2.0
PRODID:-//Plone.org//NONSGML plone.app.event//EN
X-WR-TIMEZONE:Europe/Madrid
BEGIN:VEVENT
SUMMARY:Festa Major. III Campionat de tibada de llibant
DTSTART;TZID=Europe/Madrid;VALUE=DATE-TIME:20130804T113000
DTEND;TZID=Europe/Madrid;VALUE=DATE-TIME:20130804T123000
DTSTAMP;VALUE=DATE-TIME:20260423T155539Z
UID:03c05434408dbb45d765ee80733608d4
CREATED;VALUE=DATE-TIME:20130804T000000Z
CATEGORIES:Festes i fires,Familiars
LOCATION:Plaça de l'Ajuntament - Plaça de l'Ajuntament, s/n. 08328 Alella
ORGANIZER:Colla Trabucaires del Vi d'Alella
COMMENT:Preu: Gratuït
URL:https://alella.cat/document.php?id=3414
END:VEVENT
END:VCALENDAR