BEGIN:VCALENDAR
VERSION:2.0
PRODID:-//Plone.org//NONSGML plone.app.event//EN
X-WR-TIMEZONE:Europe/Madrid
BEGIN:VEVENT
SUMMARY:Cinema. Torrente presidente
DTSTART;TZID=Europe/Madrid;VALUE=DATE-TIME:20260413T180000
DTEND;TZID=Europe/Madrid;VALUE=DATE-TIME:20260413T190000
DTSTAMP;VALUE=DATE-TIME:20260424T151459Z
UID:d0d4d0afe8aaa2990ecec12f1df5e978
CREATED;VALUE=DATE-TIME:20260413T000000Z
CATEGORIES:Cinema
LOCATION:Espai d'Arts Escèniques - Carrer de Santa Teresa, 9 08328 Alella
ORGANIZER:Ajuntament d'Alella
COMMENT:Preu: Preu Feiners i Festius: 6,5 Dia de preu reduït: 4,50 Majors de 65 anys: 2
Durada: Diumenge 12 d'abril a les 17:30h i a les 19:30h i dilluns 13 d'abril a les 18h i a les 20:15h
URL:https://alella.cat/document.php?id=25929
END:VEVENT
END:VCALENDAR