BEGIN:VCALENDAR
VERSION:2.0
PRODID:-//Plone.org//NONSGML plone.app.event//EN
X-WR-TIMEZONE:Europe/Madrid
BEGIN:VEVENT
SUMMARY:Inici curs: defensa personal Krav Magà
DTSTART;TZID=Europe/Madrid;VALUE=DATE-TIME:20260408T183000
DTEND;TZID=Europe/Madrid;VALUE=DATE-TIME:20260408T193000
DTSTAMP;VALUE=DATE-TIME:20260422T225024Z
UID:326ad0b336ce7d1844bd694cdfb73b4a
CREATED;VALUE=DATE-TIME:20260408T000000Z
CATEGORIES:Literatura,Cursos
LOCATION:Centre Cultural de Can Lleonart - Plaça dels Germans Lleonart, 1 08328 Alella
ORGANIZER:Ajuntament d'Alella
COMMENT:Preu: 43&euro;
Durada: 1h 30min
URL:https://alella.cat/document.php?id=25852
END:VEVENT
END:VCALENDAR