BEGIN:VCALENDAR
VERSION:2.0
PRODID:-//Plone.org//NONSGML plone.app.event//EN
X-WR-TIMEZONE:Europe/Madrid
BEGIN:VEVENT
SUMMARY:Tertúlia. La cançó improvisada, de la tradició a l'instant
DTSTART;TZID=Europe/Madrid;VALUE=DATE-TIME:20260611T190000
DTEND;TZID=Europe/Madrid;VALUE=DATE-TIME:20260611T200000
DTSTAMP;VALUE=DATE-TIME:20260425T143027Z
UID:0a3b0ffeebf9fa7b8ae387db7babc532
CREATED;VALUE=DATE-TIME:20260611T000000Z
CATEGORIES:Tertúlies
LOCATION:Centre Cultural de Can Lleonart - Plaça dels Germans Lleonart, 1 08328 Alella
ORGANIZER:Ajuntament d'Alella
COMMENT:Preu: Gratuïta
Durada: Aprox 2h
URL:https://alella.cat/document.php?id=25828
END:VEVENT
END:VCALENDAR