BEGIN:VCALENDAR
VERSION:2.0
PRODID:-//Plone.org//NONSGML plone.app.event//EN
X-WR-TIMEZONE:Europe/Madrid
BEGIN:VEVENT
SUMMARY:Crims.DOAlella. Presentació del llibre L'ombra de mitjanit, de Mònica Bofill i lectura en veu alta de textos negrots
DTSTART;TZID=Europe/Madrid;VALUE=DATE-TIME:20260225T190000
DTEND;TZID=Europe/Madrid;VALUE=DATE-TIME:20260225T200000
DTSTAMP;VALUE=DATE-TIME:20260425T171117Z
UID:21fc942eaeeeabe98e21908b39067fd9
CREATED;VALUE=DATE-TIME:20260225T000000Z
CATEGORIES:Literatura
LOCATION:Biblioteca Municipal Ferrer i Guàrdia - Hort de la Rectoria. 08328 Alella
ORGANIZER:Ajuntament d'Alella
COMMENT:Preu: Gratuït
URL:https://alella.cat/document.php?id=25529
END:VEVENT
END:VCALENDAR