BEGIN:VCALENDAR
VERSION:2.0
PRODID:-//Plone.org//NONSGML plone.app.event//EN
X-WR-TIMEZONE:Europe/Madrid
BEGIN:VEVENT
SUMMARY:Xerrada. L'astronomia a Catalunya ara fa mil anys
DTSTART;TZID=Europe/Madrid;VALUE=DATE-TIME:20260126T190000
DTEND;TZID=Europe/Madrid;VALUE=DATE-TIME:20260126T200000
DTSTAMP;VALUE=DATE-TIME:20260422T131045Z
UID:a5fefef0f813f3711fbe2ec48a271417
CREATED;VALUE=DATE-TIME:20260126T000000Z
CATEGORIES:Tertúlies
LOCATION:Seu social associació Casal d'Alella
ORGANIZER:Agrupacio d'Astronomia d'Alella
URL:https://alella.cat/document.php?id=25523
END:VEVENT
END:VCALENDAR