BEGIN:VCALENDAR
VERSION:2.0
PRODID:-//Plone.org//NONSGML plone.app.event//EN
X-WR-TIMEZONE:Europe/Madrid
BEGIN:VEVENT
SUMMARY:Karaoke
DTSTART;TZID=Europe/Madrid;VALUE=DATE-TIME:20260130T203000
DTEND;TZID=Europe/Madrid;VALUE=DATE-TIME:20260130T213000
DTSTAMP;VALUE=DATE-TIME:20260423T160337Z
UID:68a042b6ce068259c1a85c5da6b219ff
CREATED;VALUE=DATE-TIME:20260130T000000Z
CATEGORIES:Música
LOCATION:Seu social associació Casal d'Alella
ORGANIZER:Associació Casal d'Alella
COMMENT:Durada: 20.30h públic familiar - 22h públic adult
URL:https://alella.cat/document.php?id=25521
END:VEVENT
END:VCALENDAR