BEGIN:VCALENDAR
VERSION:2.0
PRODID:-//Plone.org//NONSGML plone.app.event//EN
X-WR-TIMEZONE:Europe/Madrid
BEGIN:VEVENT
SUMMARY:Crims.DOAlella. Presentació de llibres. Flota com una papallona, de Jordi Cervera i El punt de ruptura, de Jordi Dausà
DTSTART;TZID=Europe/Madrid;VALUE=DATE-TIME:20260211T190000
DTEND;TZID=Europe/Madrid;VALUE=DATE-TIME:20260211T200000
DTSTAMP;VALUE=DATE-TIME:20260424T070406Z
UID:3f9cf1650d29f1aa882d64e7dd0834ac
CREATED;VALUE=DATE-TIME:20260211T000000Z
CATEGORIES:Literatura
LOCATION:Biblioteca Municipal Ferrer i Guàrdia - Hort de la Rectoria. 08328 Alella
ORGANIZER:Ajuntament d'Alella
COMMENT:Preu: Gratuït
URL:https://alella.cat/document.php?id=25503
END:VEVENT
END:VCALENDAR