BEGIN:VCALENDAR
VERSION:2.0
PRODID:-//Plone.org//NONSGML plone.app.event//EN
X-WR-TIMEZONE:Europe/Madrid
BEGIN:VEVENT
SUMMARY:Teatre. Cor dels amants, de Tiago Rodrigues
DTSTART;TZID=Europe/Madrid;VALUE=DATE-TIME:20260517T193000
DTEND;TZID=Europe/Madrid;VALUE=DATE-TIME:20260517T203000
DTSTAMP;VALUE=DATE-TIME:20260424T152029Z
UID:030063fcddf0d472e2e61cb148956ad5
CREATED;VALUE=DATE-TIME:20260517T000000Z
CATEGORIES:Espectacles
LOCATION:Espai d'Arts Escèniques - Carrer de Santa Teresa, 9 08328 Alella
ORGANIZER:Ajuntament d'Alella
COMMENT:Preu: Entre 15&#128; i 18 &#128;
Durada: 60 min.
DESCRIPTION:Compra d'entrades
URL:https://alella.cat/document.php?id=25351
END:VEVENT
END:VCALENDAR