BEGIN:VCALENDAR
VERSION:2.0
PRODID:-//Plone.org//NONSGML plone.app.event//EN
X-WR-TIMEZONE:Europe/Madrid
BEGIN:VEVENT
SUMMARY:Festa de Santa Madrona. Concert. Judit Neddermann & Pau Figueres
DTSTART;TZID=Europe/Madrid;VALUE=DATE-TIME:20260314T193000
DTEND;TZID=Europe/Madrid;VALUE=DATE-TIME:20260314T203000
DTSTAMP;VALUE=DATE-TIME:20260421T134306Z
UID:e289475cf7a6202bd8128b214b11b2b2
CREATED;VALUE=DATE-TIME:20260314T000000Z
CATEGORIES:Música
LOCATION:Espai d'Arts Escèniques - Carrer de Santa Teresa, 9 08328 Alella
ORGANIZER:Ajuntament d'Alella
COMMENT:Preu: Entre 15&#128; i 18&#128;
Durada: 90 min.
DESCRIPTION:Compra d'entrades
URL:https://alella.cat/document.php?id=25347
END:VEVENT
END:VCALENDAR