BEGIN:VCALENDAR
VERSION:2.0
PRODID:-//Plone.org//NONSGML plone.app.event//EN
X-WR-TIMEZONE:Europe/Madrid
BEGIN:VEVENT
SUMMARY:Mercat de puces solidari d'ADANA
DTSTART;TZID=Europe/Madrid;VALUE=DATE-TIME:20251123T090000
DTEND;TZID=Europe/Madrid;VALUE=DATE-TIME:20251123T100000
DTSTAMP;VALUE=DATE-TIME:20260423T064341Z
UID:78179386632463b300211871bd3588c7
CREATED;VALUE=DATE-TIME:20251123T000000Z
CATEGORIES:Familiars
LOCATION:Placeta de la Verema. (antic moll de càrrega del Mercat Municipal)
ORGANIZER:ADANA
COMMENT:Durada: De 9 a 15h
URL:https://alella.cat/document.php?id=25085
END:VEVENT
END:VCALENDAR