BEGIN:VCALENDAR
VERSION:2.0
PRODID:-//Plone.org//NONSGML plone.app.event//EN
X-WR-TIMEZONE:Europe/Madrid
BEGIN:VEVENT
SUMMARY:Casament civil
DTSTART;TZID=Europe/Madrid;VALUE=DATE-TIME:20251017T130000
DTEND;TZID=Europe/Madrid;VALUE=DATE-TIME:20251017T140000
DTSTAMP;VALUE=DATE-TIME:20260421T071449Z
UID:85eff588bb188781785f0aff74c43d47
CREATED;VALUE=DATE-TIME:20251017T000000Z
CATEGORIES:Agenda institucional
LOCATION:Sala de Plens
URL:https://alella.cat/document.php?id=25032
END:VEVENT
END:VCALENDAR