BEGIN:VCALENDAR
VERSION:2.0
PRODID:-//Plone.org//NONSGML plone.app.event//EN
X-WR-TIMEZONE:Europe/Madrid
BEGIN:VEVENT
SUMMARY:Gent 6.0. Itinerari de contes i llegendes d'Alella
DTSTART;TZID=Europe/Madrid;VALUE=DATE-TIME:20251117T100000
DTEND;TZID=Europe/Madrid;VALUE=DATE-TIME:20251117T110000
DTSTAMP;VALUE=DATE-TIME:20260421T214222Z
UID:e3ba4b9b3f381232d0c87130b89c4736
CREATED;VALUE=DATE-TIME:20251117T000000Z
CATEGORIES:Sortides
LOCATION:Creu de Pedra
ORGANIZER:Ajuntament d'Alella
COMMENT:Preu: Gratuït
Durada: 2h i 30 min
URL:https://alella.cat/document.php?id=24734
END:VEVENT
END:VCALENDAR