BEGIN:VCALENDAR
VERSION:2.0
PRODID:-//Plone.org//NONSGML plone.app.event//EN
X-WR-TIMEZONE:Europe/Madrid
BEGIN:VEVENT
SUMMARY:Junta de Govern 22 de juliol de 2025. Assumptes delegats ple Ple de l'Ajuntament (sessió pública)
DTSTART;TZID=Europe/Madrid;VALUE=DATE-TIME:20241227T141500
DTEND;TZID=Europe/Madrid;VALUE=DATE-TIME:20241227T151500
DTSTAMP;VALUE=DATE-TIME:20260426T011117Z
UID:5a1f4beb6ca1eafc8c216f3548bf0a9a
CREATED;VALUE=DATE-TIME:20241227T000000Z
CATEGORIES:Agenda institucional
LOCATION:Sala de Plens de l'Ajuntament
URL:https://alella.cat/document.php?id=24696
END:VEVENT
END:VCALENDAR