BEGIN:VCALENDAR
VERSION:2.0
PRODID:-//Plone.org//NONSGML plone.app.event//EN
X-WR-TIMEZONE:Europe/Madrid
BEGIN:VEVENT
SUMMARY:Assemblea General Consorci DO
DTSTART;TZID=Europe/Madrid;VALUE=DATE-TIME:20250604T120000
DTEND;TZID=Europe/Madrid;VALUE=DATE-TIME:20250604T130000
DTSTAMP;VALUE=DATE-TIME:20260422T161549Z
UID:1498ac76cd67486cf9d20357cd61dbe8
CREATED;VALUE=DATE-TIME:20250604T000000Z
CATEGORIES:Agenda institucional
LOCATION:Celler Can Bouquet d'Alella
URL:https://alella.cat/document.php?id=24360
END:VEVENT
END:VCALENDAR