BEGIN:VCALENDAR
VERSION:2.0
PRODID:-//Plone.org//NONSGML plone.app.event//EN
X-WR-TIMEZONE:Europe/Madrid
BEGIN:VEVENT
SUMMARY:Agenda d'activitats esportives del cap de setmana
DTSTART;TZID=Europe/Madrid;VALUE=DATE-TIME:20250517T090000
DTEND;TZID=Europe/Madrid;VALUE=DATE-TIME:20250517T100000
DTSTAMP;VALUE=DATE-TIME:20260422T131216Z
UID:804faad19c7355b64c6329b99342fff7
CREATED;VALUE=DATE-TIME:20250517T000000Z
CATEGORIES:Esports
LOCATION:Pavelló d'Esports Municipal Abelardo Vera i Camp d'Esport Municipal
URL:https://alella.cat/document.php?id=24266
END:VEVENT
END:VCALENDAR