BEGIN:VCALENDAR
VERSION:2.0
PRODID:-//Plone.org//NONSGML plone.app.event//EN
X-WR-TIMEZONE:Europe/Madrid
BEGIN:VEVENT
SUMMARY:Cinema. También esto pasarà
DTSTART;TZID=Europe/Madrid;VALUE=DATE-TIME:20250518T192000
DTEND;TZID=Europe/Madrid;VALUE=DATE-TIME:20250518T202000
DTSTAMP;VALUE=DATE-TIME:20260423T155612Z
UID:2d888479808d80c4f19623330bccef36
CREATED;VALUE=DATE-TIME:20250518T000000Z
CATEGORIES:Cinema
LOCATION:Espai d'Arts Escèniques - Carrer de Santa Teresa, 9 08328 Alella
ORGANIZER:Ajuntament d'Alella
COMMENT:Preu: Feiners i Festius: 6,5    Dia de preu reduït: 4,50
Durada: diumenge 18 de maig a les 19:20 i dilluns 19 de maig a les 18h i 19:50h
URL:https://alella.cat/document.php?id=24240
END:VEVENT
END:VCALENDAR