BEGIN:VCALENDAR
VERSION:2.0
PRODID:-//Plone.org//NONSGML plone.app.event//EN
X-WR-TIMEZONE:Europe/Madrid
BEGIN:VEVENT
SUMMARY:Festa Gent Gran. Taller de Boccia
DTSTART;TZID=Europe/Madrid;VALUE=DATE-TIME:20250522T110000
DTEND;TZID=Europe/Madrid;VALUE=DATE-TIME:20250522T120000
DTSTAMP;VALUE=DATE-TIME:20260423T160352Z
UID:73c6dd4c0b377775f86b132b17dfa780
CREATED;VALUE=DATE-TIME:20250522T000000Z
CATEGORIES:Jornades,Esports
LOCATION:Can Gaza - Avda Sant Josep de Calassanç 23-25. 08328 Alella
ORGANIZER:Ajuntament d'Alella
COMMENT:Preu: Gratuït
URL:https://alella.cat/document.php?id=24122
END:VEVENT
END:VCALENDAR