BEGIN:VCALENDAR
VERSION:2.0
PRODID:-//Plone.org//NONSGML plone.app.event//EN
X-WR-TIMEZONE:Europe/Madrid
BEGIN:VEVENT
SUMMARY:Juguem a l'Scrabble en família
DTSTART;TZID=Europe/Madrid;VALUE=DATE-TIME:20250216T173000
DTEND;TZID=Europe/Madrid;VALUE=DATE-TIME:20250216T183000
DTSTAMP;VALUE=DATE-TIME:20260424T175531Z
UID:6318dea8f92cfb8b1b82b25b5b6dfae5
CREATED;VALUE=DATE-TIME:20250216T000000Z
CATEGORIES:Familiars
LOCATION:Espai social Casal d'Alella
ORGANIZER:Associació Casal d'Alella
COMMENT:Preu: Gratuït
Durada: de 17:30h a 19:30h
URL:https://alella.cat/document.php?id=23709
END:VEVENT
END:VCALENDAR