BEGIN:VCALENDAR
VERSION:2.0
PRODID:-//Plone.org//NONSGML plone.app.event//EN
X-WR-TIMEZONE:Europe/Madrid
BEGIN:VEVENT
SUMMARY:Jocs de taula
DTSTART;TZID=Europe/Madrid;VALUE=DATE-TIME:20250216T110000
DTEND;TZID=Europe/Madrid;VALUE=DATE-TIME:20250216T120000
DTSTAMP;VALUE=DATE-TIME:20260425T205129Z
UID:598edf88c410f0a159c0bd6e97b810dc
CREATED;VALUE=DATE-TIME:20250216T000000Z
CATEGORIES:Familiars
LOCATION:Espai social Casal d'Alella
ORGANIZER:Associació Casal d'Alella
COMMENT:Preu: Gratuït
Durada: de 11h a 13h
URL:https://alella.cat/document.php?id=23708
END:VEVENT
END:VCALENDAR