BEGIN:VCALENDAR
VERSION:2.0
PRODID:-//Plone.org//NONSGML plone.app.event//EN
X-WR-TIMEZONE:Europe/Madrid
BEGIN:VEVENT
SUMMARY:Karaoke per a adults
DTSTART;TZID=Europe/Madrid;VALUE=DATE-TIME:20250207T220000
DTEND;TZID=Europe/Madrid;VALUE=DATE-TIME:20250207T230000
DTSTAMP;VALUE=DATE-TIME:20260423T081049Z
UID:c4addfb5dbfba7c768c433f3b3444a99
CREATED;VALUE=DATE-TIME:20250207T000000Z
CATEGORIES:Música
LOCATION:Espai social Casal d'Alella
ORGANIZER:Associació Casal d'Alella
COMMENT:Preu: Gratuït
Durada: de 22.00h a 24.00h
URL:https://alella.cat/document.php?id=23703
END:VEVENT
END:VCALENDAR