BEGIN:VCALENDAR
VERSION:2.0
PRODID:-//Plone.org//NONSGML plone.app.event//EN
X-WR-TIMEZONE:Europe/Madrid
BEGIN:VEVENT
SUMMARY:Taller. Recuperem de l'oblit paraules del nostre entorn natural i sortim al carrer. T'hi apuntes?
DTSTART;TZID=Europe/Madrid;VALUE=DATE-TIME:20250124T180000
DTEND;TZID=Europe/Madrid;VALUE=DATE-TIME:20250124T190000
DTSTAMP;VALUE=DATE-TIME:20260421T125943Z
UID:f3da85e24a81a3beb54ba786be1618e0
CREATED;VALUE=DATE-TIME:20250124T000000Z
CATEGORIES:Literatura,Familiars
LOCATION:Biblioteca Municipal Ferrer i Guàrdia - Hort de la Rectoria. 08328 Alella
ORGANIZER:Ajuntament d'Alella
COMMENT:Durada: De 18 a 19.30h
URL:https://alella.cat/document.php?id=23604
END:VEVENT
END:VCALENDAR