BEGIN:VCALENDAR
VERSION:2.0
PRODID:-//Plone.org//NONSGML plone.app.event//EN
X-WR-TIMEZONE:Europe/Madrid
BEGIN:VEVENT
SUMMARY:Mostres d'hivern de l'Escola de Dansa
DTSTART;TZID=Europe/Madrid;VALUE=DATE-TIME:20250122T171500
DTEND;TZID=Europe/Madrid;VALUE=DATE-TIME:20250122T181500
DTSTAMP;VALUE=DATE-TIME:20260425T010108Z
UID:b3cf39ec0af58f763ac7014c11a6ffbe
CREATED;VALUE=DATE-TIME:20250122T000000Z
CATEGORIES:Música,Familiars
LOCATION:Espai d'Arts Escèniques Casal d'Alella - Carrer de Santa Teresa, 9 08328 Alella
ORGANIZER:Ajuntament d'Alella
COMMENT:Preu: Gratuït
URL:https://alella.cat/document.php?id=23579
END:VEVENT
END:VCALENDAR