BEGIN:VCALENDAR
VERSION:2.0
PRODID:-//Plone.org//NONSGML plone.app.event//EN
X-WR-TIMEZONE:Europe/Madrid
BEGIN:VEVENT
SUMMARY:Cinexic. Ocells de pas
DTSTART;TZID=Europe/Madrid;VALUE=DATE-TIME:20250406T173000
DTEND;TZID=Europe/Madrid;VALUE=DATE-TIME:20250406T183000
DTSTAMP;VALUE=DATE-TIME:20260422T145050Z
UID:1657cbd8520dd902fa0f00a27e31720f
CREATED;VALUE=DATE-TIME:20250406T000000Z
CATEGORIES:Cinema,Familiars
LOCATION:Espai d'Arts Escèniques Casal d'Alella - Carrer de Santa Teresa, 9 08328 Alella
ORGANIZER:Ajuntament d'Alella
COMMENT:Preu: Entre 3&#128; i 4,5&#128;
Durada: Diumenge 6 d'abril a les 17.30h
DESCRIPTION:Compra d'entrades
URL:https://alella.cat/document.php?id=23576
END:VEVENT
END:VCALENDAR