BEGIN:VCALENDAR
VERSION:2.0
PRODID:-//Plone.org//NONSGML plone.app.event//EN
X-WR-TIMEZONE:Europe/Madrid
BEGIN:VEVENT
SUMMARY:Teatre alellenc. El petit Príncep, Grup de Teatre i Creativitat Tik 6.0
DTSTART;TZID=Europe/Madrid;VALUE=DATE-TIME:20250521T193000
DTEND;TZID=Europe/Madrid;VALUE=DATE-TIME:20250521T203000
DTSTAMP;VALUE=DATE-TIME:20260425T050258Z
UID:d7524174ff04923a0cd43239d30b6b7c
CREATED;VALUE=DATE-TIME:20250521T000000Z
CATEGORIES:
LOCATION:Espai d'Arts Escèniques Casal d'Alella - Carrer de Santa Teresa, 9 08328 Alella
COMMENT:Preu: 3&#128;
DESCRIPTION:COMPRA D'ENTRADES
URL:https://alella.cat/document.php?id=23378
END:VEVENT
END:VCALENDAR