BEGIN:VCALENDAR
VERSION:2.0
PRODID:-//Plone.org//NONSGML plone.app.event//EN
X-WR-TIMEZONE:Europe/Madrid
BEGIN:VEVENT
SUMMARY:Signatura conveni amb Càritas
DTSTART;TZID=Europe/Madrid;VALUE=DATE-TIME:20241220T090000
DTEND;TZID=Europe/Madrid;VALUE=DATE-TIME:20241220T100000
DTSTAMP;VALUE=DATE-TIME:20260419T164947Z
UID:e12a8a97fe21e8021b749a41fb87ccae
CREATED;VALUE=DATE-TIME:20241220T000000Z
CATEGORIES:Agenda institucional
LOCATION:Sala de Plens
URL:https://alella.cat/document.php?id=23359
END:VEVENT
END:VCALENDAR