BEGIN:VCALENDAR
VERSION:2.0
PRODID:-//Plone.org//NONSGML plone.app.event//EN
X-WR-TIMEZONE:Europe/Madrid
BEGIN:VEVENT
SUMMARY:Taula de Sostenibilitat del Consorci de Promoció Turística Costa del Maresme
DTSTART;TZID=Europe/Madrid;VALUE=DATE-TIME:20241216T100000
DTEND;TZID=Europe/Madrid;VALUE=DATE-TIME:20241216T110000
DTSTAMP;VALUE=DATE-TIME:20260426T023316Z
UID:ae9ed971d506244357a022bdf2cfda38
CREATED;VALUE=DATE-TIME:20241216T000000Z
CATEGORIES:Agenda institucional
LOCATION:Concell Comarcal Del Maresme
ORGANIZER:Consorci de Promoció Turística Costa del Maresme
URL:https://alella.cat/document.php?id=23342
END:VEVENT
END:VCALENDAR