BEGIN:VCALENDAR
VERSION:2.0
PRODID:-//Plone.org//NONSGML plone.app.event//EN
X-WR-TIMEZONE:Europe/Madrid
BEGIN:VEVENT
SUMMARY:Creativitat literària, edició hivern
DTSTART;TZID=Europe/Madrid;VALUE=DATE-TIME:20250115T180000
DTEND;TZID=Europe/Madrid;VALUE=DATE-TIME:20250115T190000
DTSTAMP;VALUE=DATE-TIME:20260425T171149Z
UID:035786a980d19d31211baee0f8706995
CREATED;VALUE=DATE-TIME:20250115T000000Z
CATEGORIES:Cursos
LOCATION:Centre Cultural de Can Lleonart - Plaça dels Germans Lleonart, 1 08328 Alella
ORGANIZER:Ajuntament d'Alella
COMMENT:Preu: 64&euro;
Durada: 1hora i 30m
URL:https://alella.cat/document.php?id=23299
END:VEVENT
END:VCALENDAR