BEGIN:VCALENDAR
VERSION:2.0
PRODID:-//Plone.org//NONSGML plone.app.event//EN
X-WR-TIMEZONE:Europe/Madrid
BEGIN:VEVENT
SUMMARY:Benvinguda a la Jornada sobre la infància i adolescència en risc
DTSTART;TZID=Europe/Madrid;VALUE=DATE-TIME:20241121T090000
DTEND;TZID=Europe/Madrid;VALUE=DATE-TIME:20241121T100000
DTSTAMP;VALUE=DATE-TIME:20260422T010918Z
UID:7c838e6aeb264e6d4076148fc3de1fc4
CREATED;VALUE=DATE-TIME:20241121T000000Z
CATEGORIES:Agenda institucional
LOCATION:Espais d'Arts Escèniques Casal d'Alella
URL:https://alella.cat/document.php?id=23129
END:VEVENT
END:VCALENDAR