BEGIN:VCALENDAR
VERSION:2.0
PRODID:-//Plone.org//NONSGML plone.app.event//EN
X-WR-TIMEZONE:Europe/Madrid
BEGIN:VEVENT
SUMMARY:Reunió Consell General de la Mancomunitat
DTSTART;TZID=Europe/Madrid;VALUE=DATE-TIME:20241120T093000
DTEND;TZID=Europe/Madrid;VALUE=DATE-TIME:20241120T103000
DTSTAMP;VALUE=DATE-TIME:20260423T111708Z
UID:64d0674615849023893547cde174006f
CREATED;VALUE=DATE-TIME:20241120T000000Z
CATEGORIES:Agenda institucional
LOCATION:Ajuntament de El Masnou
URL:https://alella.cat/document.php?id=23126
END:VEVENT
END:VCALENDAR