BEGIN:VCALENDAR
VERSION:2.0
PRODID:-//Plone.org//NONSGML plone.app.event//EN
X-WR-TIMEZONE:Europe/Madrid
BEGIN:VEVENT
SUMMARY:Reunió delegats sindicals Policia Local
DTSTART;TZID=Europe/Madrid;VALUE=DATE-TIME:20241113T120000
DTEND;TZID=Europe/Madrid;VALUE=DATE-TIME:20241113T130000
DTSTAMP;VALUE=DATE-TIME:20260424T054447Z
UID:99a9e928c795ce679ac75ae78fa0d2ab
CREATED;VALUE=DATE-TIME:20241113T000000Z
CATEGORIES:Agenda institucional
LOCATION:Alcaldia
URL:https://alella.cat/document.php?id=23094
END:VEVENT
END:VCALENDAR