BEGIN:VCALENDAR
VERSION:2.0
PRODID:-//Plone.org//NONSGML plone.app.event//EN
X-WR-TIMEZONE:Europe/Madrid
BEGIN:VEVENT
SUMMARY:Jornades Salut Mental. Acte inaugural. Conversa-debat. Estigmes i salut mental
DTSTART;TZID=Europe/Madrid;VALUE=DATE-TIME:20241107T093000
DTEND;TZID=Europe/Madrid;VALUE=DATE-TIME:20241107T103000
DTSTAMP;VALUE=DATE-TIME:20260423T220933Z
UID:4a4d7ac274d96f6816950ee0b614fc91
CREATED;VALUE=DATE-TIME:20241107T000000Z
CATEGORIES:Literatura,Jornades
LOCATION:Espai d'Arts Escèniques Casal d'Alella - Carrer de Santa Teresa, 9 08328 Alella
ORGANIZER:Ajuntament d'Alella
URL:https://alella.cat/document.php?id=22902
END:VEVENT
END:VCALENDAR