BEGIN:VCALENDAR
VERSION:2.0
PRODID:-//Plone.org//NONSGML plone.app.event//EN
X-WR-TIMEZONE:Europe/Madrid
BEGIN:VEVENT
SUMMARY:Diumenges de vins
DTSTART;TZID=Europe/Madrid;VALUE=DATE-TIME:20241027T120000
DTEND;TZID=Europe/Madrid;VALUE=DATE-TIME:20241027T130000
DTSTAMP;VALUE=DATE-TIME:20260424T121803Z
UID:279649ddb0a976937b7e726658c9052f
CREATED;VALUE=DATE-TIME:20241027T000000Z
CATEGORIES:Vi i gastronomia,Tast de vins i most
LOCATION:Oficina de Turisme - Riera Fosca 2. 08328 Alella
ORGANIZER:Ajuntament d'Alella
COMMENT:Preu: 8 euros
Durada: De 12 a 14h
DESCRIPTION:Comprar entrades
URL:https://alella.cat/document.php?id=22847
END:VEVENT
END:VCALENDAR