BEGIN:VCALENDAR
VERSION:2.0
PRODID:-//Plone.org//NONSGML plone.app.event//EN
X-WR-TIMEZONE:Europe/Madrid
BEGIN:VEVENT
SUMMARY:Agenda d'activitats esportives del cap de setmana
DTSTART;TZID=Europe/Madrid;VALUE=DATE-TIME:20241004T000000
DTEND;TZID=Europe/Madrid;VALUE=DATE-TIME:20241004T010000
DTSTAMP;VALUE=DATE-TIME:20260423T220848Z
UID:f8de77cc7bf00f35613f940f44ea02fe
CREATED;VALUE=DATE-TIME:20241004T000000Z
CATEGORIES:Esports
LOCATION:Pavelló d'Esports Municipal Abelardo Vera i Camp d'Esport Municipal
URL:https://alella.cat/document.php?id=22840
END:VEVENT
END:VCALENDAR