BEGIN:VCALENDAR
VERSION:2.0
PRODID:-//Plone.org//NONSGML plone.app.event//EN
X-WR-TIMEZONE:Europe/Madrid
BEGIN:VEVENT
SUMMARY:Casament civil
DTSTART;TZID=Europe/Madrid;VALUE=DATE-TIME:20241004T120000
DTEND;TZID=Europe/Madrid;VALUE=DATE-TIME:20241004T130000
DTSTAMP;VALUE=DATE-TIME:20260424T192137Z
UID:215f6f705e56ad52d052198a0f779619
CREATED;VALUE=DATE-TIME:20241004T000000Z
CATEGORIES:Agenda institucional
LOCATION:Sala de Plens
URL:https://alella.cat/document.php?id=22821
END:VEVENT
END:VCALENDAR