BEGIN:VCALENDAR
VERSION:2.0
PRODID:-//Plone.org//NONSGML plone.app.event//EN
X-WR-TIMEZONE:Europe/Madrid
BEGIN:VEVENT
SUMMARY:Signatura conveni amb l'entitat Colla de Gegants, Capgrosso, Grallers i Timbalers d'Alella
DTSTART;TZID=Europe/Madrid;VALUE=DATE-TIME:20241001T133000
DTEND;TZID=Europe/Madrid;VALUE=DATE-TIME:20241001T143000
DTSTAMP;VALUE=DATE-TIME:20260422T025124Z
UID:c4bd61947efa635d8b687a3ffd4f16d6
CREATED;VALUE=DATE-TIME:20241001T000000Z
CATEGORIES:Agenda institucional
LOCATION:Sala de Plens
URL:https://alella.cat/document.php?id=22818
END:VEVENT
END:VCALENDAR