BEGIN:VCALENDAR
VERSION:2.0
PRODID:-//Plone.org//NONSGML plone.app.event//EN
X-WR-TIMEZONE:Europe/Madrid
BEGIN:VEVENT
SUMMARY:Òpera: La Bohème
DTSTART;TZID=Europe/Madrid;VALUE=DATE-TIME:20241007T190000
DTEND;TZID=Europe/Madrid;VALUE=DATE-TIME:20241007T200000
DTSTAMP;VALUE=DATE-TIME:20260423T111551Z
UID:80f43ea9a10642282030c8ef20293581
CREATED;VALUE=DATE-TIME:20241007T000000Z
CATEGORIES:Música
LOCATION:Espai social del Casal d'Alella
ORGANIZER:Associació Casal d'Alella
COMMENT:Preu: Taquilla inversa
Durada: de 19:00h a 21:00h
URL:https://alella.cat/document.php?id=22792
END:VEVENT
END:VCALENDAR