BEGIN:VCALENDAR
VERSION:2.0
PRODID:-//Plone.org//NONSGML plone.app.event//EN
X-WR-TIMEZONE:Europe/Madrid
BEGIN:VEVENT
SUMMARY:Sessió ordinària Consell General Mancomunitat
DTSTART;TZID=Europe/Madrid;VALUE=DATE-TIME:20240918T093000
DTEND;TZID=Europe/Madrid;VALUE=DATE-TIME:20240918T103000
DTSTAMP;VALUE=DATE-TIME:20260425T123203Z
UID:670c769d82e6fa0e9f7297b85f44cab0
CREATED;VALUE=DATE-TIME:20240918T000000Z
CATEGORIES:Agenda institucional
LOCATION:El Masnou
URL:https://alella.cat/document.php?id=22720
END:VEVENT
END:VCALENDAR