BEGIN:VCALENDAR
VERSION:2.0
PRODID:-//Plone.org//NONSGML plone.app.event//EN
X-WR-TIMEZONE:Europe/Madrid
BEGIN:VEVENT
SUMMARY:Lliurament premis del 1r concurs de tast per parelles
DTSTART;TZID=Europe/Madrid;VALUE=DATE-TIME:20240913T180000
DTEND;TZID=Europe/Madrid;VALUE=DATE-TIME:20240913T190000
DTSTAMP;VALUE=DATE-TIME:20260422T011032Z
UID:cfa60d7985906a951c5911f3b024ee5d
CREATED;VALUE=DATE-TIME:20240913T000000Z
CATEGORIES:Agenda institucional
LOCATION:Espais d'Arts Escèniques
URL:https://alella.cat/document.php?id=22717
END:VEVENT
END:VCALENDAR