BEGIN:VCALENDAR
VERSION:2.0
PRODID:-//Plone.org//NONSGML plone.app.event//EN
X-WR-TIMEZONE:Europe/Madrid
BEGIN:VEVENT
SUMMARY:25N. Gent 6.0. Taller d'autodefensa per a dones
DTSTART;TZID=Europe/Madrid;VALUE=DATE-TIME:20241119T100000
DTEND;TZID=Europe/Madrid;VALUE=DATE-TIME:20241119T110000
DTSTAMP;VALUE=DATE-TIME:20260424T070352Z
UID:67f17d25b89953102460e65b9db5bff2
CREATED;VALUE=DATE-TIME:20241119T000000Z
CATEGORIES:Cursos
LOCATION:Aula de música- Espai d'Arts Escèniques Casal d'Alella - Carrer de Santa Teresa, 9 08328 Alella
ORGANIZER:Ajuntament d'Alella
COMMENT:Preu: Gratuït
URL:https://alella.cat/document.php?id=22674
END:VEVENT
END:VCALENDAR