BEGIN:VCALENDAR
VERSION:2.0
PRODID:-//Plone.org//NONSGML plone.app.event//EN
X-WR-TIMEZONE:Europe/Madrid
BEGIN:VEVENT
SUMMARY:Assistència a la inauguració exposició temporal "Elles, nosaltres", de Margarita Oliva
DTSTART;TZID=Europe/Madrid;VALUE=DATE-TIME:20240717T190000
DTEND;TZID=Europe/Madrid;VALUE=DATE-TIME:20240717T200000
DTSTAMP;VALUE=DATE-TIME:20260424T042048Z
UID:72bb27b5b25201be60aebf900dcf694a
CREATED;VALUE=DATE-TIME:20240717T000000Z
LOCATION:Can Manyé
URL:https://alella.cat/document.php?id=22432
END:VEVENT
END:VCALENDAR