BEGIN:VCALENDAR
VERSION:2.0
PRODID:-//Plone.org//NONSGML plone.app.event//EN
X-WR-TIMEZONE:Europe/Madrid
BEGIN:VEVENT
SUMMARY:Parcs i biblioteques... Naturalment!. Bibliolab
DTSTART;TZID=Europe/Madrid;VALUE=DATE-TIME:20240912T173000
DTEND;TZID=Europe/Madrid;VALUE=DATE-TIME:20240912T183000
DTSTAMP;VALUE=DATE-TIME:20260421T195843Z
UID:629bea1b8b2a996371cc376a845800a0
CREATED;VALUE=DATE-TIME:20240912T000000Z
CATEGORIES:Familiars
LOCATION:Plaça de l'Ajuntament - Plaça de l'Ajuntament, s/n. 08328 Alella
ORGANIZER:Ajuntament d'Alella
COMMENT:Preu: Gratuït
DESCRIPTION:Com s'enlairen els coets?
URL:https://alella.cat/document.php?id=22414
END:VEVENT
END:VCALENDAR