BEGIN:VCALENDAR
VERSION:2.0
PRODID:-//Plone.org//NONSGML plone.app.event//EN
X-WR-TIMEZONE:Europe/Madrid
BEGIN:VEVENT
SUMMARY:Concert Top Revival
DTSTART;TZID=Europe/Madrid;VALUE=DATE-TIME:20240713T220000
DTEND;TZID=Europe/Madrid;VALUE=DATE-TIME:20240713T230000
DTSTAMP;VALUE=DATE-TIME:20260423T111736Z
UID:5427c988a38186e14c4c7e3a3f7e40e5
CREATED;VALUE=DATE-TIME:20240713T000000Z
CATEGORIES:Música
LOCATION:Espai social Casal d'Alella
ORGANIZER:Associació Casal d'Alella
COMMENT:Preu: Taquilla inversa
Durada: de 22.00h a 24.00h
URL:https://alella.cat/document.php?id=22373
END:VEVENT
END:VCALENDAR