BEGIN:VCALENDAR
VERSION:2.0
PRODID:-//Plone.org//NONSGML plone.app.event//EN
X-WR-TIMEZONE:Europe/Madrid
BEGIN:VEVENT
SUMMARY:Passejada punt lila diürn i posterior reunió amb diputades de l'Àrea de Feminismes i Igualtat de la Diputació de Barcelona
DTSTART;TZID=Europe/Madrid;VALUE=DATE-TIME:20240628T173000
DTEND;TZID=Europe/Madrid;VALUE=DATE-TIME:20240628T183000
DTSTAMP;VALUE=DATE-TIME:20260420T134715Z
UID:6208aed0a9f1c2356d01d52b6f8a6a25
CREATED;VALUE=DATE-TIME:20240628T000000Z
CATEGORIES:Agenda institucional
LOCATION:Plaça de l'Ajuntament
DESCRIPTION:Il·lma. Sra. Raquel Albiol i Gilabert i il·lma. Sra. Eva Soler i Guallar
URL:https://alella.cat/document.php?id=22307
END:VEVENT
END:VCALENDAR