BEGIN:VCALENDAR
VERSION:2.0
PRODID:-//Plone.org//NONSGML plone.app.event//EN
X-WR-TIMEZONE:Europe/Madrid
BEGIN:VEVENT
SUMMARY:Festa Major. 2a fase Torneig de Pàdel
DTSTART;TZID=Europe/Madrid;VALUE=DATE-TIME:20240727T103000
DTEND;TZID=Europe/Madrid;VALUE=DATE-TIME:20240727T113000
DTSTAMP;VALUE=DATE-TIME:20260425T235042Z
UID:a41b634ce3010393951979f2837e2c9f
CREATED;VALUE=DATE-TIME:20240727T000000Z
CATEGORIES:Festes i fires,Esports
LOCATION:Club tennis Alella Sistres i Club de Pàdel Can Teixidó
ORGANIZER:Club de tennis Alella Sistres i Club de Pàdel Can Teixidó
COMMENT:Durada: De 10.30 a 13h
URL:https://alella.cat/document.php?id=22280
END:VEVENT
END:VCALENDAR