BEGIN:VCALENDAR
VERSION:2.0
PRODID:-//Plone.org//NONSGML plone.app.event//EN
X-WR-TIMEZONE:Europe/Madrid
BEGIN:VEVENT
SUMMARY:Reunió Modificació POUM - La Miralda
DTSTART;TZID=Europe/Madrid;VALUE=DATE-TIME:20240617T083000
DTEND;TZID=Europe/Madrid;VALUE=DATE-TIME:20240617T093000
DTSTAMP;VALUE=DATE-TIME:20260422T212232Z
UID:7404c604f2249a186537c2ade0ac7ab1
CREATED;VALUE=DATE-TIME:20240617T000000Z
CATEGORIES:Agenda institucional
LOCATION:Sala reunions 2a planta
URL:https://alella.cat/document.php?id=22254
END:VEVENT
END:VCALENDAR