BEGIN:VCALENDAR
VERSION:2.0
PRODID:-//Plone.org//NONSGML plone.app.event//EN
X-WR-TIMEZONE:Europe/Madrid
BEGIN:VEVENT
SUMMARY:Cinema. Hasta el fin del mundo
DTSTART;TZID=Europe/Madrid;VALUE=DATE-TIME:20240622T194500
DTEND;TZID=Europe/Madrid;VALUE=DATE-TIME:20240622T204500
DTSTAMP;VALUE=DATE-TIME:20260425T193005Z
UID:19a059755e318dd8316a3778a56c8c36
CREATED;VALUE=DATE-TIME:20240622T000000Z
CATEGORIES:Cinema
LOCATION:Espai d'Arts Escèniques Casal d'Alella - Carrer de Santa Teresa, 9 08328 Alella
ORGANIZER:Ajuntament d'Alella
COMMENT:Preu: Feiners i Festius: 6,5    Dia de preu reduït: 4,50
Durada: Dissabte 22 de juny a les 17:30 (vose) i 19:45h / Dilluns 24 de juny a les 18:00h
URL:https://alella.cat/document.php?id=22221
END:VEVENT
END:VCALENDAR