BEGIN:VCALENDAR
VERSION:2.0
PRODID:-//Plone.org//NONSGML plone.app.event//EN
X-WR-TIMEZONE:Europe/Madrid
BEGIN:VEVENT
SUMMARY:Agenda esportiva Pavelló Municipal d'Esport i Camp d'Esports Municipal
DTSTART;TZID=Europe/Madrid;VALUE=DATE-TIME:20240525T090000
DTEND;TZID=Europe/Madrid;VALUE=DATE-TIME:20240525T100000
DTSTAMP;VALUE=DATE-TIME:20260424T204522Z
UID:9e48bf56ec626e32a7ad335537dbc9ac
CREATED;VALUE=DATE-TIME:20240525T000000Z
CATEGORIES:Familiars,Joves,Esports
LOCATION:Pavelló d'Esports Municipal i Camp d'Esports Municipal
ORGANIZER:Ajuntament d'Alella
COMMENT:Durada: 25 i 26 de maig de 2024
URL:https://alella.cat/document.php?id=22080
END:VEVENT
END:VCALENDAR