BEGIN:VCALENDAR
VERSION:2.0
PRODID:-//Plone.org//NONSGML plone.app.event//EN
X-WR-TIMEZONE:Europe/Madrid
BEGIN:VEVENT
SUMMARY:Banc de sang
DTSTART;TZID=Europe/Madrid;VALUE=DATE-TIME:20240525T100000
DTEND;TZID=Europe/Madrid;VALUE=DATE-TIME:20240525T110000
DTSTAMP;VALUE=DATE-TIME:20260423T004618Z
UID:a78ceb258ebe76234cd74ca6e36533ae
CREATED;VALUE=DATE-TIME:20240525T000000Z
CATEGORIES:Jornades
LOCATION:Centre Cultural de Can Lleonart - Plaça dels Germans Lleonart, 1 08328 Alella
ORGANIZER:Ajuntament d'Alella
COMMENT:Durada: De 10 a 14 h
URL:https://alella.cat/document.php?id=21798
END:VEVENT
END:VCALENDAR