BEGIN:VCALENDAR
VERSION:2.0
PRODID:-//Plone.org//NONSGML plone.app.event//EN
X-WR-TIMEZONE:Europe/Madrid
BEGIN:VEVENT
SUMMARY:Xerrada. Eines per aconseguir una feina
DTSTART;TZID=Europe/Madrid;VALUE=DATE-TIME:20120222T183000
DTEND;TZID=Europe/Madrid;VALUE=DATE-TIME:20120222T193000
DTSTAMP;VALUE=DATE-TIME:20260424T150901Z
UID:a801ca2f3fe30623e6f9c80e2a4f6ffe
CREATED;VALUE=DATE-TIME:20120222T000000Z
CATEGORIES:
LOCATION:ÀGORA Punt d'Informació Juvenil (PIJ) - Plaça de l'Ajuntament, 3. 08328 Alella
ORGANIZER:Ajuntament d'Alella
COMMENT:Preu: Gratuït
Durada: De 18.30 a 20h
URL:https://alella.cat/document.php?id=2178
END:VEVENT
END:VCALENDAR